BEGIN:VCALENDAR
VERSION:2.0
PRODID:-//Tukios.com/
BEGIN:VEVENT
UID:50aeaf93-273f-4d42-a3bd-b9c7434c23bf@www.twinoaksfuneralhome.com
DTSTAMP:20260425T223912Z
DTSTART:20260509T180000Z
DTEND:20260509T190000Z
SUMMARY:Visitation
DESCRIPTION:
URL:https://www.twinoaksfuneralhome.com/obituaries/john-caldwell
LOCATION:West End Church 7180 Goodman Rd  Walls MS 38680
GEO:34.9632301;-90.1163638
END:VEVENT
END:VCALENDAR