BEGIN:VCALENDAR
VERSION:2.0
PRODID:-//Tukios.com/
BEGIN:VEVENT
UID:5da6c1ef-7cd8-4766-82b2-1bdd47c7c5b9@www.twinoaksfuneralhome.com
DTSTAMP:20260425T223929Z
DTSTART:20260509T190000Z
DTEND:20260509T200000Z
SUMMARY:Celebration of Life
DESCRIPTION:
URL:https://www.twinoaksfuneralhome.com/obituaries/john-caldwell
LOCATION: 7180 Goodman Rd  Walls MS 38680
GEO:34.9632301;-90.1163638
END:VEVENT
END:VCALENDAR